BEGIN:VCALENDAR
VERSION:2.0
PRODID:Quicksite
NAME:Calendrier
X-WR-CALNAME:Calendrier
REFRESH-INTERVAL;VALUE=DURATION:PT240M
X-PUBLISHED-TTL:PT240M
BEGIN:VEVENT
UID:69e4e54825cef
SUMMARY:SDL : Tournoi de Boules 
DESCRIPTION:Cafés et croissants offerts
LOCATION:
DTSTART:20260621
DTSTAMP:20260203T092047Z
END:VEVENT
END:VCALENDAR